{"text_format":"1","workbook":"xlsx","n_sheets":18,"sheets":["案内","入力シート","様式１（試験研究依頼書）","様式２（試験研究依頼書）①","様式２（試験研究依頼書）②","様式２（試験研究依頼書）③","様式２（試験研究依頼書）④","様式２（試験研究依頼書）⑤","様式２（試験研究依頼書）⑥","様式２（試験研究依頼書）⑦","様式２（試験研究依頼書）⑧","様式２（試験研究依頼書）⑨","様式２（試験研究依頼書）⑩","様式２（試験研究依頼書）⑪","様式２（試験研究依頼書）⑫","様式２（試験研究依頼書）⑬","様式２（試験研究依頼書）⑭","様式２（試験研究依頼書）⑮"],"not_rendered":{"charts":0,"images":0,"macros":1,"external_links":0,"defined_names":17,"comments":0,"pivot_tables":0},"unopened":[],"bounds":{"document_bytes":16777216,"sheet_cells":100000,"rows_first":2000,"rows_last":500,"rows_between":2000,"halvings":0,"cell_chars":16384,"cell_head_chars":4096},"cells_cut":0,"cells_raw":0,"read":"whole","date_system":"1900"}

{"sheet":"案内","index":0,"n_rows":37,"n_cols":5,"rows_kept":37,"cut":false,"hidden":false,"merged":[[35,0,35,3],[25,3,26,3],[27,1,27,4],[25,4,25,5],[26,4,26,5],[28,4,31,5],[8,0,8,5],[2,0,2,5],[3,0,3,5],[4,0,4,5],[5,0,5,5],[7,0,7,5],[6,0,6,5],[21,1,21,4],[24,1,24,4],[9,0,9,5],[10,0,10,5],[12,0,12,5],[16,0,16,5]]}
["(初めにお読みください）"]
["１　受講対象者"]
["　研修一覧に記載された研修については、国土交通省職員の他、以下所属の職員の方についても受講対象となります。\n　なお、受講対象となる研修については、国土交通省の職員の他、HPに記載されている「令和４年度研修実施計画」の（４）令和４年度計画の概要の『フォーム入力リンク欄』にも記載があります。"]
["　☆の表示があるコース…地方公共団体等（港湾管理者、空港会社）の職員も参加可能"]
["　★の表示があるコース…民間企業の社員も参加可能"]
["※ただし、各コースの上限人数と申込者数によっては、申し込み頂いても受講できない場合がありますので、予めご了承ください。\n"]
["※令和４年度は研修に関する講義の一部動画（講師の了解が得られたものなど）について、研修後に公開を検討しております。動画の提供も検討している前提で研修参加申し込みについてご検討下さい。"]
["２　費用負担について"]
["　受託費"]
["・地方公共団体や民間企業の場合、「国土交通省受託事務処理規則」に基づき、謝金等講師に係る費用、国総研宿泊棟に於いて宿泊を伴う研修については前記に加えて、施設使用料及び光熱水道料等の費用負担が発生します。"]
["・研修終了後に経費を算定し次第、精算内訳書及び納入告知書を送付しますので、告知書に記載された期限までに納入頂きますようお願い致します。"]
["※なお、経費の算定には時間を要する場合がありますので、ご了承ください。"]
["※研修のカリキュラムによっては、費用負担が不要の場合があります。\n\n"]
[]
[]
["３　「試験研究依頼書」について"]
["　上記１、２をふまえ、受講対象となる研修に参加をご希望の場合は、申込時に「試験研究依頼書」を国総研研修担当（連絡先は下記４参照）まで提出して下さい。試験研究依頼書は様式１及び様式２の２枚から構成されます。\n"]
[]
[]
["　　≪試験研究依頼書作成から提出までの流れ≫"]
[]
[null,"入力シートで必要事項を入力"]
[null,null,null,"↓","➡入力シートへはこちらをクリック"]
[]
[null,"作成した試験研究依頼書をPDF化する"]
[null,null,null,"↓","・様式１：債務者１人につき１枚必要\n（詳細は入力シートの「記入上の注意事項」参照）"]
[null,null,null,null,"・様式２：研修参加希望者１人につき１枚必要\n（詳細は入力シートの「記入上の注意事項」参照）"]
[null,"国総研へ提出"]
[null,null,null,null,"・参加を希望する研修の研修員募集締切日までに、PDF化した試験研究依頼書を国総研へ提出してください\n　提出の方法については、下記の２通りです\n　１　ＨＰ上の入力フォームで申請する際に添付\n　２　直接国総研研修担当宛メールでの送付"]
[]
[]
[]
[]
["４　問い合わせ・試験研究依頼書送付先"]
["国土技術政策総合研究所　国際業務研究室　研修担当"]
["TEL：046-834-9584、FAX：046-834-9843\n　住所：〒239-0832 神奈川県横須賀市神明町 1-12"]
["　Mail：ysk.nil-kensyu@mlit.go.jp"]

{"sheet":"入力シート","index":1,"n_rows":43,"n_cols":24,"rows_kept":43,"cut":false,"hidden":false,"merged":[[11,4,12,4],[11,3,12,3],[11,2,12,2],[11,1,12,1],[11,6,12,6],[11,5,12,5],[11,20,12,20],[11,21,12,21],[11,22,12,22],[10,13,10,19],[10,20,10,22],[1,1,1,4],[2,3,2,4],[1,6,6,14],[10,1,10,12],[10,0,12,0],[6,0,6,1],[4,2,4,4],[5,2,5,4],[6,2,6,4],[4,0,4,1],[5,0,5,1],[11,11,11,12],[11,10,12,10],[11,9,12,9],[11,8,12,8],[11,7,12,7]]}
["受講を希望する研修コース名とその期間"]
["研修\nコース",null,null,null,null,null,"（記入上の注意事項）\n\n■「差出人」欄：所属の長などをご記載頂きます。この「差出人」は様式２の「債務者」と同じです。なお、年度途中で変更となる可能性を鑑み、無記名でお役職どめの記載として下さい。\n例.　差出人「〇〇株式会社　代表取締役社長」等\n※氏名を無記名とすることに支障がある場合は国総研宛にご相談下さい。\n\n■「納入告知書関係」欄：納入告知書、経費内訳書の郵送及び支払い関係に関する諸連絡をさせて頂きますので、支払業務担当部署のご担当者名をご記載下さい\n\n■「研修に関する事務担当等」欄：試験研究依頼書に関する記載内容の訂正、研修関連書類の送受信及び研修に関する諸連絡について、担当者名をご記載下さい。担当者が参加者本人の場合は、「参加者本人に同じ」とご記載下さい。\n\n\n※同じ組織（都道府県、市町村、株式会社など）から複数の研修員参加がある場合\n・債務者ごとに納入告知書を発行します。よって、原則債務者ごとに様式1,2を提出頂きます。\n・債務者が同一の場合、様式１に対して納入告知書はまとめて1枚の発行となります。ただし、様式2は参加人数分のご提出が必要です。\n・同じ組織（都道府県、市町村、株式会社など）であっても、様式１の債務者は同一であるが、様式２の支払担当部署はそれぞれ分かれている等、納入告知書をそれぞれの支払担当部署ごとに複数枚発行を希望される場合はご相談下さい。\n（例：様式1は県知事名で統一し提出したいが、支払部署が分かれるため納入告知書は部署ごとの発行を希望する場合等）\n\n∇参考　　納入告知書の宛名記載は以下となります。\n\n住所の中に括弧書きで下表「納入告知書担当部署」欄に記載頂いた、部課名が入ります。\n    \n例） 住　　所　○○県○○市○○○○－○－○（○○県○○部港湾課庶務係　）\n         　　　債務者名　○○県知事  殿\n"]
["研修期間",null,"～"]
["様式１ 必要事項記入欄"]
["差出人\n"]
["日付\n※研修初日前までの、提出した日付を記入して下さい"]
["文書番号\n※ご所属内で文書番号等規定がある場合には、こちらにご記載下さい。ない場合は記載不要です\n例。「国総研国業第〇〇〇号」など"]
[]
["様式２　必要事項記入欄"]
[]
["附番","研修参加者情報",null,null,null,null,null,null,null,null,null,null,null,"受託費の手続きに関する必要事項",null,null,null,null,null,null,"研修に関する事務担当等"]
[null,"ﾌﾘｶﾞﾅ","氏名","性別","職名","生年月日\n※西暦で入力","メールアドレス\n（研修生の連絡先）","所属名（所属課室までご記載下さい）","所属先住所及び郵便番号","　　　　電話番号","研修に関連する\n経験年数","国総研宿泊所における宿泊の有無",null,"債務者関係",null,null,null,null,null,null,"担当者氏名：連絡先","担当者メールアドレス","連絡先住所"]
[null,null,null,null,null,null,null,null,null,null,null,"有（期間を入力）\n〇〇/〇〇～〇〇/〇〇","否","債務者名※自動入力","債務者\n〒・住所","債務者所属","担当者氏名","担当者メールアドレス","担当部署\n　〒・住所・電話番号","担当部署\n　電話番号",null,null,null,"PDF化は下記をクリック\n↓"]
["例","ｺｸｿｳ ﾀﾛｳ","国総　太郎","男","主事","2001-04-01","〇〇〇＠co.jp","国土技術政策総合研究所　管理調整部管理課","〒239-0832 横須賀市神明町1-12","046-835-9584","3",null,"否",{"$f":"$C$5","v":0},"〒239-0832\n神奈川県横須賀市神明町1-12","国土技術政策総合研究所","〇〇〇〇","〇〇＠ne.jp","〒239-0832横須賀市新明町1-12","\n046-834-9584","研修参加者本人","研修参加者本人","研修参加者本人"]
["①",null,null,null,null,null,null,null,null,null,null,"　","否"]
["②",null,null,null,null,null,null,null,null,null,null,"　","否",{"$f":"$C$5","v":0}]
["③",null,null,null,null,null,null,null,null,null,null,"　","否",0]
["④",null,null,null,null,null,null,null,null,null,null,"　","否",0]
["⑤",null,null,null,null,null,null,null,null,null,null,"　","否",0]
["⑥",null,null,null,null,null,null,null,null,null,null,"　","否",0]
["⑦",null,null,null,null,null,null,null,null,null,null,"　","否",0]
["⑧",null,null,null,null,null,null,null,null,null,null,"　","否",0]
["⑨",null,null,null,null,null,null,null,null,null,null,"　","否",0]
["⑩",null,null,null,null,null,null,null,null,null,null,"　","否",0]
["⑪",null,null,null,null,null,null,null,null,null,null,"　","否",0]
["⑫",null,null,null,null,null,null,null,null,null,null,"　","否",0]
["⑬",null,null,null,null,null,null,null,null,null,null,"　","否",0]
["⑭",null,null,null,null,null,null,null,null,null,null,"　","否",0]
["⑮",null,null,null,null,null,null,null,null,null,null,"　","否",0]
["⑯",null,null,null,null,null,null,null,null,null,null,"　","否",0]
["⑰",null,null,null,null,null,null,null,null,null,null,"　","否",0]
["⑱",null,null,null,null,null,null,null,null,null,null,null,"否",0]
["⑲",null,null,null,null,null,null,null,null,null,null,"　","否",0]
["⑳",null,null,null,null,null,null,null,null,null,null,"　","否",0]
["㉑",null,null,null,null,null,null,null,null,null,null,"　","否",0]
["㉒",null,null,null,null,null,null,null,null,null,null,"　","否",0]
["㉓",null,null,null,null,null,null,null,null,null,null,"　","否",0]
["㉔",null,null,null,null,null,null,null,null,null,null,"　","否",0]
["㉕",null,null,null,null,null,null,null,null,null,null,"　","否",0]
["㉖",null,null,null,null,null,null,null,null,null,null,"　","否",0]
["㉗",null,null,null,null,null,null,null,null,null,null,"　","否",0]
["㉘",null,null,null,null,null,null,null,null,null,null,"　","否",0]
[30,null,null,null,null,null,null,null,null,null,null,"　"]

{"sheet":"様式１（試験研究依頼書）","index":2,"n_rows":31,"n_cols":8,"rows_kept":31,"cut":false,"hidden":false,"merged":[[11,4,11,7],[12,4,12,7]]}
[]
["（様式１）"]
[]
[null,null,null,null,null,null,null,{"$f":"入力シート!C7","v":0}]
[null,null,null,null,null,null,null,{"$f":"入力シート!C6","v":"00:00:00"}]
[]
[]
["　国土交通省"]
["　　国土技術政策総合研究所長　　殿"]
[]
[]
[null,null,null,null,{"$f":"入力シート!P15","v":0}]
[null,null,null,null,{"$f":"入力シート!C5","v":0}]
[]
[]
[]
[]
[]
["試験研究依頼書"]
[]
[]
["　国土交通省受託事務処理規則により、下記のとおり試験研究を依頼する。"]
[]
[]
[]
["記"]
[]
["　１　試験研究事項",null,null,"別紙のとおり"]
[]
[]
["　２　試験研究の実施場所",null,null,"国土交通省国土技術政策総合研究所横須賀庁舎"]

{"sheet":"様式２（試験研究依頼書）①","index":3,"n_rows":23,"n_cols":6,"rows_kept":23,"cut":false,"hidden":false,"merged":[[14,2,14,3],[3,1,3,3],[5,1,5,2],[6,1,6,2],[13,1,13,2],[7,1,7,3],[8,1,8,3],[9,1,9,3],[10,1,10,3],[11,1,11,3],[12,1,12,3],[21,1,21,3],[22,2,22,3],[15,1,15,3],[16,1,16,3],[17,1,17,3],[20,2,20,3],[18,1,19,3]]}
[]
["（様式２）"]
[]
["研修コース",{"$f":"入力シート!$B$2","v":"00:00:00"}]
["研修期間",{"$f":"入力シート!$B$3","v":"00:00:00"},"～",{"$f":"入力シート!$D$3","v":"00:00:00"}]
["フリガナ",{"$f":"入力シート!B$15","v":0}]
["研修志望者氏名",{"$f":"入力シート!C$15","v":0},null,{"$f":"IF(入力シート!D15=\"女\",\"㊛\",\"㊚\")","v":"㊚"},null," "]
["職名",{"$f":"入力シート!E$15","v":0}]
["メールアドレス",{"$f":"入力シート!G$15","v":0}]
["所属及び住所",{"$f":"入力シート!H$15","v":0}]
["TEL",{"$f":"入力シート!I$15","v":0}]
[null,{"$f":"入力シート!J15","v":0}]
["研修に関連する経験年数",{"$f":"入力シート!K15&\"年\"","v":"年"}]
["生年月日（満年齢）",{"$f":"入力シート!F$15","v":"00:00:00"},null,{"$f":"DATEDIF(B14,B5,\"Y\")&\"歳\"","v":"0歳"}]
["宿泊の要否",{"$f":"IF(入力シート!M15=\"\",入力シート!L15,0)","v":0},{"$f":"IF(OR(入力シート!L15=\"\",入力シート!M15=\"否\"),\"否\",0)","v":"否"}]
["債務者",{"$f":"入力シート!C5","v":0}]
["住所及び債務者名",{"$f":"入力シート!O15","v":0}]
[null,{"$f":"入力シート!P15","v":0}]
["納入告知書担当部署",{"$f":"入力シート!S$15","v":0}]
["\n住所・名称又は宛名\n"]
["担当者の氏名・連絡先",{"$f":"入力シート!Q$15","v":0},{"$f":"入力シート!R$15","v":0}]
["研修関連の連絡先\n住所・名称",{"$f":"入力シート!W$15","v":0}]
["担当者の氏名・連絡先",{"$f":"入力シート!U$15","v":0},{"$f":"入力シート!V$15","v":0}]

{"sheet":"様式２（試験研究依頼書）②","index":4,"n_rows":23,"n_cols":6,"rows_kept":23,"cut":false,"hidden":false,"merged":[[9,1,9,3],[3,1,3,3],[5,1,5,2],[6,1,6,2],[7,1,7,3],[8,1,8,3],[22,2,22,3],[10,1,10,3],[11,1,11,3],[12,1,12,3],[13,1,13,2],[14,2,14,3],[15,1,15,3],[16,1,16,3],[17,1,17,3],[18,1,19,3],[20,2,20,3],[21,1,21,3]]}
[]
["（様式２）"]
[]
["研修コース",{"$f":"入力シート!$B$2","v":"00:00:00"}]
["研修期間",{"$f":"入力シート!$B$3","v":"00:00:00"},"～",{"$f":"入力シート!$D$3","v":"00:00:00"}]
["フリガナ",{"$f":"入力シート!B$16","v":0}]
["研修志望者氏名",{"$f":"入力シート!C$16","v":0},null,{"$f":"IF(入力シート!D16=\"女\",\"㊛\",\"㊚\")","v":"㊚"},null," "]
["職名",{"$f":"入力シート!E$16","v":0}]
["メールアドレス",{"$f":"入力シート!G$16","v":0}]
["所属及び住所",{"$f":"入力シート!H$16","v":0}]
["TEL",{"$f":"入力シート!I$16","v":0}]
[null,{"$f":"入力シート!J16","v":0}]
["研修に関連する経験年数",{"$f":"入力シート!K16&\"年\"","v":"年"}]
["生年月日（満年齢）",{"$f":"入力シート!F$16","v":"00:00:00"},null,{"$f":"DATEDIF(B14,B5,\"Y\")&\"歳\"","v":"0歳"}]
["宿泊の要否",{"$f":"IF(入力シート!M16=\"\",入力シート!L16,0)","v":0},{"$f":"IF(OR(入力シート!L16=\"\",入力シート!M16=\"否\"),\"否\",0)","v":"否"}]
["債務者",{"$f":"入力シート!C5","v":0}]
["住所及び債務者名",{"$f":"入力シート!O16","v":0}]
[null,{"$f":"入力シート!P16","v":0}]
["納入告知書担当部署",{"$f":"入力シート!S$16","v":0}]
["\n住所・名称又は宛名\n"]
["担当者の氏名・連絡先",{"$f":"入力シート!Q$16","v":0},{"$f":"入力シート!R$16","v":0}]
["研修関連の連絡先\n住所・名称",{"$f":"入力シート!W$16","v":0}]
["担当者の氏名・連絡先",{"$f":"入力シート!U$16","v":0},{"$f":"入力シート!V$16","v":0}]

{"sheet":"様式２（試験研究依頼書）③","index":5,"n_rows":23,"n_cols":6,"rows_kept":23,"cut":false,"hidden":false,"merged":[[9,1,9,3],[3,1,3,3],[5,1,5,2],[6,1,6,2],[7,1,7,3],[8,1,8,3],[22,2,22,3],[10,1,10,3],[11,1,11,3],[12,1,12,3],[13,1,13,2],[14,2,14,3],[15,1,15,3],[16,1,16,3],[17,1,17,3],[18,1,19,3],[20,2,20,3],[21,1,21,3]]}
[]
["（様式２）"]
[]
["研修コース",{"$f":"入力シート!$B$2","v":"00:00:00"}]
["研修期間",{"$f":"入力シート!$B$3","v":"00:00:00"},"～",{"$f":"入力シート!$D$3","v":"00:00:00"}]
["フリガナ",{"$f":"入力シート!B$17","v":0}]
["研修志望者氏名",{"$f":"入力シート!C$17","v":0},null,{"$f":"IF(入力シート!D17=\"女\",\"㊛\",\"㊚\")","v":"㊚"},null," "]
["職名",{"$f":"入力シート!E$17","v":0}]
["メールアドレス",{"$f":"入力シート!G$17","v":0}]
["所属及び住所",{"$f":"入力シート!H$17","v":0}]
["TEL",{"$f":"入力シート!I$17","v":0}]
[null,{"$f":"入力シート!J17","v":0}]
["研修に関連する経験年数",{"$f":"入力シート!K17&\"年\"","v":"年"}]
["生年月日（満年齢）",{"$f":"入力シート!F$17","v":"00:00:00"},null,{"$f":"DATEDIF(B14,B5,\"Y\")&\"歳\"","v":"0歳"}]
["宿泊の要否",{"$f":"IF(入力シート!M17=\"\",入力シート!L17,0)","v":0},{"$f":"IF(OR(入力シート!L17=\"\",入力シート!M17=\"否\"),\"否\",0)","v":"否"}]
["債務者",{"$f":"入力シート!C5","v":0}]
["住所及び債務者名",{"$f":"入力シート!O17","v":0}]
[null,{"$f":"入力シート!P17","v":0}]
["納入告知書担当部署",{"$f":"入力シート!S$17","v":0}]
["\n住所・名称又は宛名\n"]
["担当者の氏名・連絡先",{"$f":"入力シート!Q$17","v":0},{"$f":"入力シート!R$17","v":0}]
["研修関連の連絡先\n住所・名称",{"$f":"入力シート!W$17","v":0}]
["担当者の氏名・連絡先",{"$f":"入力シート!U$17","v":0},{"$f":"入力シート!V$17","v":0}]

{"sheet":"様式２（試験研究依頼書）④","index":6,"n_rows":23,"n_cols":6,"rows_kept":23,"cut":false,"hidden":false,"merged":[[9,1,9,3],[3,1,3,3],[5,1,5,2],[6,1,6,2],[7,1,7,3],[8,1,8,3],[22,2,22,3],[10,1,10,3],[11,1,11,3],[12,1,12,3],[13,1,13,2],[14,2,14,3],[15,1,15,3],[16,1,16,3],[17,1,17,3],[18,1,19,3],[20,2,20,3],[21,1,21,3]]}
[]
["（様式２）"]
[]
["研修コース",{"$f":"入力シート!$B$2","v":"00:00:00"}]
["研修期間",{"$f":"入力シート!$B$3","v":"00:00:00"},"～",{"$f":"入力シート!$D$3","v":"00:00:00"}]
["フリガナ",{"$f":"入力シート!B$18","v":0}]
["研修志望者氏名",{"$f":"入力シート!C$18","v":0},null,{"$f":"IF(入力シート!D18=\"女\",\"㊛\",\"㊚\")","v":"㊚"},null," "]
["職名",{"$f":"入力シート!E$18","v":0}]
["メールアドレス",{"$f":"入力シート!G$18","v":0}]
["所属及び住所",{"$f":"入力シート!H$18","v":0}]
["TEL",{"$f":"入力シート!I$18","v":0}]
[null,{"$f":"入力シート!J18","v":0}]
["研修に関連する経験年数",{"$f":"入力シート!K18&\"年\"","v":"年"}]
["生年月日（満年齢）",{"$f":"入力シート!F$18","v":"00:00:00"},null,{"$f":"DATEDIF(B14,B5,\"Y\")&\"歳\"","v":"0歳"}]
["宿泊の要否",{"$f":"IF(入力シート!M18=\"\",入力シート!L18,0)","v":0},{"$f":"IF(OR(入力シート!L18=\"\",入力シート!M18=\"否\"),\"否\",0)","v":"否"}]
["債務者",{"$f":"入力シート!C5","v":0}]
["住所及び債務者名",{"$f":"入力シート!O18","v":0}]
[null,{"$f":"入力シート!P18","v":0}]
["納入告知書担当部署",{"$f":"入力シート!S$18","v":0}]
["\n住所・名称又は宛名\n"]
["担当者の氏名・連絡先",{"$f":"入力シート!Q$18","v":0},{"$f":"入力シート!R$18","v":0}]
["研修関連の連絡先\n住所・名称",{"$f":"入力シート!W$18","v":0}]
["担当者の氏名・連絡先",{"$f":"入力シート!U$18","v":0},{"$f":"入力シート!V$18","v":0}]

{"sheet":"様式２（試験研究依頼書）⑤","index":7,"n_rows":23,"n_cols":6,"rows_kept":23,"cut":false,"hidden":false,"merged":[[9,1,9,3],[3,1,3,3],[5,1,5,2],[6,1,6,2],[7,1,7,3],[8,1,8,3],[22,2,22,3],[10,1,10,3],[11,1,11,3],[12,1,12,3],[13,1,13,2],[14,2,14,3],[15,1,15,3],[16,1,16,3],[17,1,17,3],[18,1,19,3],[20,2,20,3],[21,1,21,3]]}
[]
["（様式２）"]
[]
["研修コース",{"$f":"入力シート!$B$2","v":"00:00:00"}]
["研修期間",{"$f":"入力シート!$B$3","v":"00:00:00"},"～",{"$f":"入力シート!$D$3","v":"00:00:00"}]
["フリガナ",{"$f":"入力シート!B$19","v":0}]
["研修志望者氏名",{"$f":"入力シート!C$19","v":0},null,{"$f":"IF(入力シート!D19=\"女\",\"㊛\",\"㊚\")","v":"㊚"},null," "]
["職名",{"$f":"入力シート!E$19","v":0}]
["メールアドレス",{"$f":"入力シート!G$19","v":0}]
["所属及び住所",{"$f":"入力シート!H$19","v":0}]
["TEL",{"$f":"入力シート!I$19","v":0}]
[null,{"$f":"入力シート!J19","v":0}]
["研修に関連する経験年数",{"$f":"入力シート!K19&\"年\"","v":"年"}]
["生年月日（満年齢）",{"$f":"入力シート!F$19","v":"00:00:00"},null,{"$f":"DATEDIF(B14,B5,\"Y\")&\"歳\"","v":"0歳"}]
["宿泊の要否",{"$f":"IF(入力シート!M19=\"\",入力シート!L19,0)","v":0},{"$f":"IF(OR(入力シート!L19=\"\",入力シート!M19=\"否\"),\"否\",0)","v":"否"}]
["債務者",{"$f":"入力シート!C5","v":0}]
["住所及び債務者名",{"$f":"入力シート!O19","v":0}]
[null,{"$f":"入力シート!P19","v":0}]
["納入告知書担当部署",{"$f":"入力シート!S$19","v":0}]
["\n住所・名称又は宛名\n"]
["担当者の氏名・連絡先",{"$f":"入力シート!Q$19","v":0},{"$f":"入力シート!R$19","v":0}]
["研修関連の連絡先\n住所・名称",{"$f":"入力シート!W$19","v":0}]
["担当者の氏名・連絡先",{"$f":"入力シート!U$19","v":0},{"$f":"入力シート!V$19","v":0}]

{"sheet":"様式２（試験研究依頼書）⑥","index":8,"n_rows":23,"n_cols":6,"rows_kept":23,"cut":false,"hidden":false,"merged":[[9,1,9,3],[3,1,3,3],[5,1,5,2],[6,1,6,2],[7,1,7,3],[8,1,8,3],[22,2,22,3],[10,1,10,3],[11,1,11,3],[12,1,12,3],[13,1,13,2],[14,2,14,3],[15,1,15,3],[16,1,16,3],[17,1,17,3],[18,1,19,3],[20,2,20,3],[21,1,21,3]]}
[]
["（様式２）"]
[]
["研修コース",{"$f":"入力シート!$B$2","v":"00:00:00"}]
["研修期間",{"$f":"入力シート!$B$3","v":"00:00:00"},"～",{"$f":"入力シート!$D$3","v":"00:00:00"}]
["フリガナ",{"$f":"入力シート!B$20","v":0}]
["研修志望者氏名",{"$f":"入力シート!C$20","v":0},null,{"$f":"IF(入力シート!D20=\"女\",\"㊛\",\"㊚\")","v":"㊚"},null," "]
["職名",{"$f":"入力シート!E$20","v":0}]
["メールアドレス",{"$f":"入力シート!G$20","v":0}]
["所属及び住所",{"$f":"入力シート!H$20","v":0}]
["TEL",{"$f":"入力シート!I$20","v":0}]
[null,{"$f":"入力シート!J20","v":0}]
["研修に関連する経験年数",{"$f":"入力シート!K20&\"年\"","v":"年"}]
["生年月日（満年齢）",{"$f":"入力シート!F$20","v":"00:00:00"},null,{"$f":"DATEDIF(B14,B5,\"Y\")&\"歳\"","v":"0歳"}]
["宿泊の要否",{"$f":"IF(入力シート!M20=\"\",入力シート!L20,0)","v":0},{"$f":"IF(OR(入力シート!L20=\"\",入力シート!M20=\"否\"),\"否\",0)","v":"否"}]
["債務者",{"$f":"入力シート!C5","v":0}]
["住所及び債務者名",{"$f":"入力シート!O20","v":0}]
[null,{"$f":"入力シート!P20","v":0}]
["納入告知書担当部署",{"$f":"入力シート!S$20","v":0}]
["\n住所・名称又は宛名\n"]
["担当者の氏名・連絡先",{"$f":"入力シート!Q$20","v":0},{"$f":"入力シート!R$20","v":0}]
["研修関連の連絡先\n住所・名称",{"$f":"入力シート!W$20","v":0}]
["担当者の氏名・連絡先",{"$f":"入力シート!U$20","v":0},{"$f":"入力シート!V$20","v":0}]

{"sheet":"様式２（試験研究依頼書）⑦","index":9,"n_rows":23,"n_cols":6,"rows_kept":23,"cut":false,"hidden":false,"merged":[[9,1,9,3],[3,1,3,3],[5,1,5,2],[6,1,6,2],[7,1,7,3],[8,1,8,3],[22,2,22,3],[10,1,10,3],[11,1,11,3],[12,1,12,3],[13,1,13,2],[14,2,14,3],[15,1,15,3],[16,1,16,3],[17,1,17,3],[18,1,19,3],[20,2,20,3],[21,1,21,3]]}
[]
["（様式２）"]
[]
["研修コース",{"$f":"入力シート!$B$2","v":"00:00:00"}]
["研修期間",{"$f":"入力シート!$B$3","v":"00:00:00"},"～",{"$f":"入力シート!$D$3","v":"00:00:00"}]
["フリガナ",{"$f":"入力シート!B$21","v":0}]
["研修志望者氏名",{"$f":"入力シート!C$21","v":0},null,{"$f":"IF(入力シート!D21=\"女\",\"㊛\",\"㊚\")","v":"㊚"},null," "]
["職名",{"$f":"入力シート!E$21","v":0}]
["メールアドレス",{"$f":"入力シート!G$21","v":0}]
["所属及び住所",{"$f":"入力シート!H$21","v":0}]
["TEL",{"$f":"入力シート!I$21","v":0}]
[null,{"$f":"入力シート!J21","v":0}]
["研修に関連する経験年数",{"$f":"入力シート!K21&\"年\"","v":"年"}]
["生年月日（満年齢）",{"$f":"入力シート!F$21","v":"00:00:00"},null,{"$f":"DATEDIF(B14,B5,\"Y\")&\"歳\"","v":"0歳"}]
["宿泊の要否",{"$f":"IF(入力シート!M21=\"\",入力シート!L21,0)","v":0},{"$f":"IF(OR(入力シート!L21=\"\",入力シート!M21=\"否\"),\"否\",0)","v":"否"}]
["債務者",{"$f":"入力シート!C5","v":0}]
["住所及び債務者名",{"$f":"入力シート!O21","v":0}]
[null,{"$f":"入力シート!P21","v":0}]
["納入告知書担当部署",{"$f":"入力シート!S$21","v":0}]
["\n住所・名称又は宛名\n"]
["担当者の氏名・連絡先",{"$f":"入力シート!Q$21","v":0},{"$f":"入力シート!R$21","v":0}]
["研修関連の連絡先\n住所・名称",{"$f":"入力シート!W$21","v":0}]
["担当者の氏名・連絡先",{"$f":"入力シート!U$21","v":0},{"$f":"入力シート!V$21","v":0}]

{"sheet":"様式２（試験研究依頼書）⑧","index":10,"n_rows":23,"n_cols":6,"rows_kept":23,"cut":false,"hidden":false,"merged":[[9,1,9,3],[3,1,3,3],[5,1,5,2],[6,1,6,2],[7,1,7,3],[8,1,8,3],[22,2,22,3],[10,1,10,3],[11,1,11,3],[12,1,12,3],[13,1,13,2],[14,2,14,3],[15,1,15,3],[16,1,16,3],[17,1,17,3],[18,1,19,3],[20,2,20,3],[21,1,21,3]]}
[]
["（様式２）"]
[]
["研修コース",{"$f":"入力シート!$B$2","v":"00:00:00"}]
["研修期間",{"$f":"入力シート!$B$3","v":"00:00:00"},"～",{"$f":"入力シート!$D$3","v":"00:00:00"}]
["フリガナ",{"$f":"入力シート!B$22","v":0}]
["研修志望者氏名",{"$f":"入力シート!C$22","v":0},null,{"$f":"IF(入力シート!D22=\"女\",\"㊛\",\"㊚\")","v":"㊚"},null," "]
["職名",{"$f":"入力シート!E$22","v":0}]
["メールアドレス",{"$f":"入力シート!G$22","v":0}]
["所属及び住所",{"$f":"入力シート!H$22","v":0}]
["TEL",{"$f":"入力シート!I$22","v":0}]
[null,{"$f":"入力シート!J22","v":0}]
["研修に関連する経験年数",{"$f":"入力シート!K22&\"年\"","v":"年"}]
["生年月日（満年齢）",{"$f":"入力シート!F$22","v":"00:00:00"},null,{"$f":"DATEDIF(B14,B5,\"Y\")&\"歳\"","v":"0歳"}]
["宿泊の要否",{"$f":"IF(入力シート!M22=\"\",入力シート!L22,0)","v":0},{"$f":"IF(OR(入力シート!L22=\"\",入力シート!M22=\"否\"),\"否\",0)","v":"否"}]
["債務者",{"$f":"入力シート!C5","v":0}]
["住所及び債務者名",{"$f":"入力シート!O22","v":0}]
[null,{"$f":"入力シート!P22","v":0}]
["納入告知書担当部署",{"$f":"入力シート!S$22","v":0}]
["\n住所・名称又は宛名\n"]
["担当者の氏名・連絡先",{"$f":"入力シート!Q$22","v":0},{"$f":"入力シート!R$22","v":0}]
["研修関連の連絡先\n住所・名称",{"$f":"入力シート!W$22","v":0}]
["担当者の氏名・連絡先",{"$f":"入力シート!U$22","v":0},{"$f":"入力シート!V$22","v":0}]

{"sheet":"様式２（試験研究依頼書）⑨","index":11,"n_rows":23,"n_cols":6,"rows_kept":23,"cut":false,"hidden":false,"merged":[[9,1,9,3],[3,1,3,3],[5,1,5,2],[6,1,6,2],[7,1,7,3],[8,1,8,3],[22,2,22,3],[10,1,10,3],[11,1,11,3],[12,1,12,3],[13,1,13,2],[14,2,14,3],[15,1,15,3],[16,1,16,3],[17,1,17,3],[18,1,19,3],[20,2,20,3],[21,1,21,3]]}
[]
["（様式２）"]
[]
["研修コース",{"$f":"入力シート!$B$2","v":"00:00:00"}]
["研修期間",{"$f":"入力シート!$B$3","v":"00:00:00"},"～",{"$f":"入力シート!$D$3","v":"00:00:00"}]
["フリガナ",{"$f":"入力シート!B$23","v":0}]
["研修志望者氏名",{"$f":"入力シート!C$23","v":0},null,{"$f":"IF(入力シート!D23=\"女\",\"㊛\",\"㊚\")","v":"㊚"},null," "]
["職名",{"$f":"入力シート!E$23","v":0}]
["メールアドレス",{"$f":"入力シート!G$23","v":0}]
["所属及び住所",{"$f":"入力シート!H$23","v":0}]
["TEL",{"$f":"入力シート!I$23","v":0}]
[null,{"$f":"入力シート!J23","v":0}]
["研修に関連する経験年数",{"$f":"入力シート!K23&\"年\"","v":"年"}]
["生年月日（満年齢）",{"$f":"入力シート!F$23","v":"00:00:00"},null,{"$f":"DATEDIF(B14,B5,\"Y\")&\"歳\"","v":"0歳"}]
["宿泊の要否",{"$f":"IF(入力シート!M23=\"\",入力シート!L23,0)","v":0},{"$f":"IF(OR(入力シート!L23=\"\",入力シート!M23=\"否\"),\"否\",0)","v":"否"}]
["債務者",{"$f":"入力シート!C5","v":0}]
["住所及び債務者名",{"$f":"入力シート!O23","v":0}]
[null,{"$f":"入力シート!P23","v":0}]
["納入告知書担当部署",{"$f":"入力シート!S$23","v":0}]
["\n住所・名称又は宛名\n"]
["担当者の氏名・連絡先",{"$f":"入力シート!Q$23","v":0},{"$f":"入力シート!R$23","v":0}]
["研修関連の連絡先\n住所・名称",{"$f":"入力シート!W$23","v":0}]
["担当者の氏名・連絡先",{"$f":"入力シート!U$23","v":0},{"$f":"入力シート!V$23","v":0}]

{"sheet":"様式２（試験研究依頼書）⑩","index":12,"n_rows":23,"n_cols":6,"rows_kept":23,"cut":false,"hidden":false,"merged":[[9,1,9,3],[3,1,3,3],[5,1,5,2],[6,1,6,2],[7,1,7,3],[8,1,8,3],[22,2,22,3],[10,1,10,3],[11,1,11,3],[12,1,12,3],[13,1,13,2],[14,2,14,3],[15,1,15,3],[16,1,16,3],[17,1,17,3],[18,1,19,3],[20,2,20,3],[21,1,21,3]]}
[]
["（様式２）"]
[]
["研修コース",{"$f":"入力シート!$B$2","v":"00:00:00"}]
["研修期間",{"$f":"入力シート!$B$3","v":"00:00:00"},"～",{"$f":"入力シート!$D$3","v":"00:00:00"}]
["フリガナ",{"$f":"入力シート!B$24","v":0}]
["研修志望者氏名",{"$f":"入力シート!C$24","v":0},null,{"$f":"IF(入力シート!D24=\"女\",\"㊛\",\"㊚\")","v":"㊚"},null," "]
["職名",{"$f":"入力シート!E$24","v":0}]
["メールアドレス",{"$f":"入力シート!G$24","v":0}]
["所属及び住所",{"$f":"入力シート!H$24","v":0}]
["TEL",{"$f":"入力シート!I$24","v":0}]
[null,{"$f":"入力シート!J24","v":0}]
["研修に関連する経験年数",{"$f":"入力シート!K24&\"年\"","v":"年"}]
["生年月日（満年齢）",{"$f":"入力シート!F$24","v":"00:00:00"},null,{"$f":"DATEDIF(B14,B5,\"Y\")&\"歳\"","v":"0歳"}]
["宿泊の要否",{"$f":"IF(入力シート!M24=\"\",入力シート!L24,0)","v":0},{"$f":"IF(OR(入力シート!L24=\"\",入力シート!M24=\"否\"),\"否\",0)","v":"否"}]
["債務者",{"$f":"入力シート!C5","v":0}]
["住所及び債務者名",{"$f":"入力シート!O24","v":0}]
[null,{"$f":"入力シート!P24","v":0}]
["納入告知書担当部署",{"$f":"入力シート!S$24","v":0}]
["\n住所・名称又は宛名\n"]
["担当者の氏名・連絡先",{"$f":"入力シート!Q$24","v":0},{"$f":"入力シート!R$24","v":0}]
["研修関連の連絡先\n住所・名称",{"$f":"入力シート!W$24","v":0}]
["担当者の氏名・連絡先",{"$f":"入力シート!U$24","v":0},{"$f":"入力シート!V$24","v":0}]

{"sheet":"様式２（試験研究依頼書）⑪","index":13,"n_rows":23,"n_cols":6,"rows_kept":23,"cut":false,"hidden":false,"merged":[[9,1,9,3],[3,1,3,3],[5,1,5,2],[6,1,6,2],[7,1,7,3],[8,1,8,3],[22,2,22,3],[10,1,10,3],[11,1,11,3],[12,1,12,3],[13,1,13,2],[14,2,14,3],[15,1,15,3],[16,1,16,3],[17,1,17,3],[18,1,19,3],[20,2,20,3],[21,1,21,3]]}
[]
["（様式２）"]
[]
["研修コース",{"$f":"入力シート!$B$2","v":"00:00:00"}]
["研修期間",{"$f":"入力シート!$B$3","v":"00:00:00"},"～",{"$f":"入力シート!$D$3","v":"00:00:00"}]
["フリガナ",{"$f":"入力シート!B$25","v":0}]
["研修志望者氏名",{"$f":"入力シート!C$25","v":0},null,{"$f":"IF(入力シート!D25=\"女\",\"㊛\",\"㊚\")","v":"㊚"},null," "]
["職名",{"$f":"入力シート!E$25","v":0}]
["メールアドレス",{"$f":"入力シート!G$25","v":0}]
["所属及び住所",{"$f":"入力シート!H$25","v":0}]
["TEL",{"$f":"入力シート!I$25","v":0}]
[null,{"$f":"入力シート!J25","v":0}]
["研修に関連する経験年数",{"$f":"入力シート!K25&\"年\"","v":"年"}]
["生年月日（満年齢）",{"$f":"入力シート!F$25","v":"00:00:00"},null,{"$f":"DATEDIF(B14,B5,\"Y\")&\"歳\"","v":"0歳"}]
["宿泊の要否",{"$f":"IF(入力シート!M25=\"\",入力シート!L25,0)","v":0},{"$f":"IF(OR(入力シート!L25=\"\",入力シート!M25=\"否\"),\"否\",0)","v":"否"}]
["債務者",{"$f":"入力シート!C5","v":0}]
["住所及び債務者名",{"$f":"入力シート!O25","v":0}]
[null,{"$f":"入力シート!P25","v":0}]
["納入告知書担当部署",{"$f":"入力シート!S$25","v":0}]
["\n住所・名称又は宛名\n"]
["担当者の氏名・連絡先",{"$f":"入力シート!Q$25","v":0},{"$f":"入力シート!R$25","v":0}]
["研修関連の連絡先\n住所・名称",{"$f":"入力シート!W$25","v":0}]
["担当者の氏名・連絡先",{"$f":"入力シート!U$25","v":0},{"$f":"入力シート!V$25","v":0}]

{"sheet":"様式２（試験研究依頼書）⑫","index":14,"n_rows":23,"n_cols":6,"rows_kept":23,"cut":false,"hidden":false,"merged":[[9,1,9,3],[3,1,3,3],[5,1,5,2],[6,1,6,2],[7,1,7,3],[8,1,8,3],[22,2,22,3],[10,1,10,3],[11,1,11,3],[12,1,12,3],[13,1,13,2],[14,2,14,3],[15,1,15,3],[16,1,16,3],[17,1,17,3],[18,1,19,3],[20,2,20,3],[21,1,21,3]]}
[]
["（様式２）"]
[]
["研修コース",{"$f":"入力シート!$B$2","v":"00:00:00"}]
["研修期間",{"$f":"入力シート!$B$3","v":"00:00:00"},"～",{"$f":"入力シート!$D$3","v":"00:00:00"}]
["フリガナ",{"$f":"入力シート!B$26","v":0}]
["研修志望者氏名",{"$f":"入力シート!C$26","v":0},null,{"$f":"IF(入力シート!D26=\"女\",\"㊛\",\"㊚\")","v":"㊚"},null," "]
["職名",{"$f":"入力シート!E$26","v":0}]
["メールアドレス",{"$f":"入力シート!G$26","v":0}]
["所属及び住所",{"$f":"入力シート!H$26","v":0}]
["TEL",{"$f":"入力シート!I$26","v":0}]
[null,{"$f":"入力シート!J26","v":0}]
["研修に関連する経験年数",{"$f":"入力シート!K26&\"年\"","v":"年"}]
["生年月日（満年齢）",{"$f":"入力シート!F$26","v":"00:00:00"},null,{"$f":"DATEDIF(B14,B5,\"Y\")&\"歳\"","v":"0歳"}]
["宿泊の要否",{"$f":"IF(入力シート!M26=\"\",入力シート!L26,0)","v":0},{"$f":"IF(OR(入力シート!L26=\"\",入力シート!M26=\"否\"),\"否\",0)","v":"否"}]
["債務者",{"$f":"入力シート!C5","v":0}]
["住所及び債務者名",{"$f":"入力シート!O26","v":0}]
[null,{"$f":"入力シート!P26","v":0}]
["納入告知書担当部署",{"$f":"入力シート!S$26","v":0}]
["\n住所・名称又は宛名\n"]
["担当者の氏名・連絡先",{"$f":"入力シート!Q$26","v":0},{"$f":"入力シート!R$26","v":0}]
["研修関連の連絡先\n住所・名称",{"$f":"入力シート!W$26","v":0}]
["担当者の氏名・連絡先",{"$f":"入力シート!U$26","v":0},{"$f":"入力シート!V$26","v":0}]

{"sheet":"様式２（試験研究依頼書）⑬","index":15,"n_rows":23,"n_cols":6,"rows_kept":23,"cut":false,"hidden":false,"merged":[[9,1,9,3],[3,1,3,3],[5,1,5,2],[6,1,6,2],[7,1,7,3],[8,1,8,3],[22,2,22,3],[10,1,10,3],[11,1,11,3],[12,1,12,3],[13,1,13,2],[14,2,14,3],[15,1,15,3],[16,1,16,3],[17,1,17,3],[18,1,19,3],[20,2,20,3],[21,1,21,3]]}
[]
["（様式２）"]
[]
["研修コース",{"$f":"入力シート!$B$2","v":"00:00:00"}]
["研修期間",{"$f":"入力シート!$B$3","v":"00:00:00"},"～",{"$f":"入力シート!$D$3","v":"00:00:00"}]
["フリガナ",{"$f":"入力シート!B$27","v":0}]
["研修志望者氏名",{"$f":"入力シート!C$27","v":0},null,{"$f":"IF(入力シート!D27=\"女\",\"㊛\",\"㊚\")","v":"㊚"},null," "]
["職名",{"$f":"入力シート!E$27","v":0}]
["メールアドレス",{"$f":"入力シート!G$27","v":0}]
["所属及び住所",{"$f":"入力シート!H$27","v":0}]
["TEL",{"$f":"入力シート!I$27","v":0}]
[null,{"$f":"入力シート!J27","v":0}]
["研修に関連する経験年数",{"$f":"入力シート!K27&\"年\"","v":"年"}]
["生年月日（満年齢）",{"$f":"入力シート!F$27","v":"00:00:00"},null,{"$f":"DATEDIF(B14,B5,\"Y\")&\"歳\"","v":"0歳"}]
["宿泊の要否",{"$f":"IF(入力シート!M27=\"\",入力シート!L27,0)","v":0},{"$f":"IF(OR(入力シート!L27=\"\",入力シート!M27=\"否\"),\"否\",0)","v":"否"}]
["債務者",{"$f":"入力シート!C5","v":0}]
["住所及び債務者名",{"$f":"入力シート!O27","v":0}]
[null,{"$f":"入力シート!P27","v":0}]
["納入告知書担当部署",{"$f":"入力シート!S$27","v":0}]
["\n住所・名称又は宛名\n"]
["担当者の氏名・連絡先",{"$f":"入力シート!Q$27","v":0},{"$f":"入力シート!R$27","v":0}]
["研修関連の連絡先\n住所・名称",{"$f":"入力シート!W$27","v":0}]
["担当者の氏名・連絡先",{"$f":"入力シート!U$27","v":0},{"$f":"入力シート!V$27","v":0}]

{"sheet":"様式２（試験研究依頼書）⑭","index":16,"n_rows":23,"n_cols":6,"rows_kept":23,"cut":false,"hidden":false,"merged":[[9,1,9,3],[3,1,3,3],[5,1,5,2],[6,1,6,2],[7,1,7,3],[8,1,8,3],[22,2,22,3],[10,1,10,3],[11,1,11,3],[12,1,12,3],[13,1,13,2],[14,2,14,3],[15,1,15,3],[16,1,16,3],[17,1,17,3],[18,1,19,3],[20,2,20,3],[21,1,21,3]]}
[]
["（様式２）"]
[]
["研修コース",{"$f":"入力シート!$B$2","v":"00:00:00"}]
["研修期間",{"$f":"入力シート!$B$3","v":"00:00:00"},"～",{"$f":"入力シート!$D$3","v":"00:00:00"}]
["フリガナ",{"$f":"入力シート!B$28","v":0}]
["研修志望者氏名",{"$f":"入力シート!C$28","v":0},null,{"$f":"IF(入力シート!D28=\"女\",\"㊛\",\"㊚\")","v":"㊚"},null," "]
["職名",{"$f":"入力シート!E$28","v":0}]
["メールアドレス",{"$f":"入力シート!G$28","v":0}]
["所属及び住所",{"$f":"入力シート!H$28","v":0}]
["TEL",{"$f":"入力シート!I$28","v":0}]
[null,{"$f":"入力シート!J28","v":0}]
["研修に関連する経験年数",{"$f":"入力シート!K28&\"年\"","v":"年"}]
["生年月日（満年齢）",{"$f":"入力シート!F$28","v":"00:00:00"},null,{"$f":"DATEDIF(B14,B5,\"Y\")&\"歳\"","v":"0歳"}]
["宿泊の要否",{"$f":"IF(入力シート!M28=\"\",入力シート!L28,0)","v":0},{"$f":"IF(OR(入力シート!L28=\"\",入力シート!M28=\"否\"),\"否\",0)","v":"否"}]
["債務者",{"$f":"入力シート!C5","v":0}]
["住所及び債務者名",{"$f":"入力シート!O28","v":0}]
[null,{"$f":"入力シート!P28","v":0}]
["納入告知書担当部署",{"$f":"入力シート!S$28","v":0}]
["\n住所・名称又は宛名\n"]
["担当者の氏名・連絡先",{"$f":"入力シート!Q$28","v":0},{"$f":"入力シート!R$28","v":0}]
["研修関連の連絡先\n住所・名称",{"$f":"入力シート!W$28","v":0}]
["担当者の氏名・連絡先",{"$f":"入力シート!U$28","v":0},{"$f":"入力シート!V$28","v":0}]

{"sheet":"様式２（試験研究依頼書）⑮","index":17,"n_rows":23,"n_cols":6,"rows_kept":23,"cut":false,"hidden":false,"merged":[[9,1,9,3],[3,1,3,3],[5,1,5,2],[6,1,6,2],[7,1,7,3],[8,1,8,3],[22,2,22,3],[10,1,10,3],[11,1,11,3],[12,1,12,3],[13,1,13,2],[14,2,14,3],[15,1,15,3],[16,1,16,3],[17,1,17,3],[18,1,19,3],[20,2,20,3],[21,1,21,3]]}
[]
["（様式２）"]
[]
["研修コース",{"$f":"入力シート!$B$2","v":"00:00:00"}]
["研修期間",{"$f":"入力シート!$B$3","v":"00:00:00"},"～",{"$f":"入力シート!$D$3","v":"00:00:00"}]
["フリガナ",{"$f":"入力シート!B$29","v":0}]
["研修志望者氏名",{"$f":"入力シート!C$29","v":0},null,{"$f":"IF(入力シート!D29=\"女\",\"㊛\",\"㊚\")","v":"㊚"},null," "]
["職名",{"$f":"入力シート!E$29","v":0}]
["メールアドレス",{"$f":"入力シート!G$29","v":0}]
["所属及び住所",{"$f":"入力シート!H$29","v":0}]
["TEL",{"$f":"入力シート!I$29","v":0}]
[null,{"$f":"入力シート!J29","v":0}]
["研修に関連する経験年数",{"$f":"入力シート!K29&\"年\"","v":"年"}]
["生年月日（満年齢）",{"$f":"入力シート!F$29","v":"00:00:00"},null,{"$f":"DATEDIF(B14,B5,\"Y\")&\"歳\"","v":"0歳"}]
["宿泊の要否",{"$f":"IF(入力シート!M29=\"\",入力シート!L29,0)","v":0},{"$f":"IF(OR(入力シート!L29=\"\",入力シート!M29=\"否\"),\"否\",0)","v":"否"}]
["債務者",{"$f":"入力シート!C5","v":0}]
["住所及び債務者名",{"$f":"入力シート!O29","v":0}]
[null,{"$f":"入力シート!P29","v":0}]
["納入告知書担当部署",{"$f":"入力シート!S$29","v":0}]
["\n住所・名称又は宛名\n"]
["担当者の氏名・連絡先",{"$f":"入力シート!Q$29","v":0},{"$f":"入力シート!R$29","v":0}]
["研修関連の連絡先\n住所・名称",{"$f":"入力シート!W$29","v":0}]
["担当者の氏名・連絡先",{"$f":"入力シート!U$29","v":0},{"$f":"入力シート!V$29","v":0}]